BEGIN:VCALENDAR
METHOD:PUBLISH
VERSION:2.0
BEGIN:VEVENT
SUMMARY:BAM@Hannover Messe
CREATED:20251231T230000Z
DTSTART:20260419T220000Z
DTEND:20260423T220000Z
LOCATION:Messegelände , 30521 Hannover

X-ALT-DESC;FMTTYPE=text/html:<p><a href="http://www.bam.de/Content/EN/Events/2026/2026-04-20-hannovermesse-en.html;jsessionid=C8319C1473CC4753A48D475DE2715F40">http://www.bam.de/Content/EN/Events/2026/2026-04-20-hannovermesse-en.html;jsessionid=C8319C1473CC4753A48D475DE2715F40</a></p>
END:VEVENT
END:VCALENDAR