BEGIN:VCALENDAR
METHOD:PUBLISH
VERSION:2.0
BEGIN:VEVENT
SUMMARY:CSHM-10 workshop. Physics-informed structural health monitoring
CREATED:20250909T220000Z
DTSTART:20260609T070000Z
DTEND:20260611T170000Z
LOCATION:Unter den Eichen 87, 12205 Berlin

X-ALT-DESC;FMTTYPE=text/html:<p><a href="http://www.bam.de/Content/EN/Events/2025/2026-06-08-CSHM-10-workshop.html;jsessionid=82A72E16DF5FD0CBEADA240C742F52EB">http://www.bam.de/Content/EN/Events/2025/2026-06-08-CSHM-10-workshop.html;jsessionid=82A72E16DF5FD0CBEADA240C742F52EB</a></p>
END:VEVENT
END:VCALENDAR