BEGIN:VCALENDAR
METHOD:PUBLISH
VERSION:2.0
BEGIN:VEVENT
SUMMARY:Advancements of Analytical Techniques for Per- and Polyfluoroalkyl Substances (PFAS) 2025 - AATP3: PFAS Analytics for industrial emissions
DESCRIPTION:In order to analyze PFAS contamination in different matrices, several analytical methods are available. The main goal within this workshop will be the discussion of advantages and drawbacks of current state-of-the-art methods in contrast to various novel and less well-known techniques for PFAS analytics.
CREATED:20250330T220000Z
DTSTART:20250916T070000Z
DTEND:20250916T150000Z
LOCATION:, see link below

X-ALT-DESC;FMTTYPE=text/html:<div xmlns="http://www.coremedia.com/2003/richtext-1.0" xmlns:xlink="http://www.w3.org/1999/xlink"><p>In order to analyze PFAS contamination in different matrices, several analytical methods are available. The main goal within this workshop will be the discussion of advantages and drawbacks of current state-of-the-art methods in contrast to various novel and less well-known techniques for PFAS analytics. </p></div><p><a href="http://www.bam.de/Content/EN/Events/2025/2025-09-16-pfas-workshop.html;jsessionid=FBC0029981ACCEEE71636246E107BF3E">http://www.bam.de/Content/EN/Events/2025/2025-09-16-pfas-workshop.html;jsessionid=FBC0029981ACCEEE71636246E107BF3E</a></p>
END:VEVENT
END:VCALENDAR